BEGIN:VCALENDAR
VERSION:2.0
PRODID:-//Gemeinde Gau-Bickelheim | Rheinhessen - ECPv6.15.20//NONSGML v1.0//EN
CALSCALE:GREGORIAN
METHOD:PUBLISH
X-ORIGINAL-URL:https://gau-bickelheim.de
X-WR-CALDESC:Veranstaltungen für Gemeinde Gau-Bickelheim | Rheinhessen
REFRESH-INTERVAL;VALUE=DURATION:PT1H
X-Robots-Tag:noindex
X-PUBLISHED-TTL:PT1H
BEGIN:VTIMEZONE
TZID:Europe/Berlin
BEGIN:DAYLIGHT
TZOFFSETFROM:+0100
TZOFFSETTO:+0200
TZNAME:CEST
DTSTART:20240331T010000
END:DAYLIGHT
BEGIN:STANDARD
TZOFFSETFROM:+0200
TZOFFSETTO:+0100
TZNAME:CET
DTSTART:20241027T010000
END:STANDARD
BEGIN:DAYLIGHT
TZOFFSETFROM:+0100
TZOFFSETTO:+0200
TZNAME:CEST
DTSTART:20250330T010000
END:DAYLIGHT
BEGIN:STANDARD
TZOFFSETFROM:+0200
TZOFFSETTO:+0100
TZNAME:CET
DTSTART:20251026T010000
END:STANDARD
BEGIN:DAYLIGHT
TZOFFSETFROM:+0100
TZOFFSETTO:+0200
TZNAME:CEST
DTSTART:20260329T010000
END:DAYLIGHT
BEGIN:STANDARD
TZOFFSETFROM:+0200
TZOFFSETTO:+0100
TZNAME:CET
DTSTART:20261025T010000
END:STANDARD
END:VTIMEZONE
BEGIN:VEVENT
DTSTART;TZID=Europe/Berlin:20250413T170000
DTEND;TZID=Europe/Berlin:20250413T180000
DTSTAMP:20260419T162015
CREATED:20250311T182848Z
LAST-MODIFIED:20250311T183439Z
UID:5829-1744563600-1744567200@gau-bickelheim.de
SUMMARY:Gemeinschaftskonzer KKM und Chorfreunde Amoroso
DESCRIPTION:teilen \n\n\nFreuen Sie sich auf ein besonderes Konzerterlebnis! Das Wiesbachtal Orchester und die Chorfreunde Amoroso laden herzlich zum Gemeinschaftskonzert ein. In musikalischer Harmonie erwartet Sie ein Erlebnis klanglicher Vielfalt. Dieses Konzert ist nicht nur ein Zeichen der musikalischen Freundschaft\, sondern auch ein Fest des gemeinsamen Musizierens. \n\n\n\n\n\n\n\n\n\n\n\n\n\n\n\n\nteilen 
URL:https://gau-bickelheim.de/event/gemeinschaftskonzer-kkm-und-chorfreunde-amoroso/
LOCATION:Kath. Pfarrkirche St. Martin\, Wöllsteiner Straße 2\, Gau-Bickelheim\, 55590\, Deutschland
END:VEVENT
END:VCALENDAR